BEGIN:VCALENDAR
VERSION:2.0
PRODID:-//https://dewillem.nl///NONSGML kigkonsult.se iCalcreator 2.10.15//
METHOD:PUBLISH
BEGIN:VEVENT
UID:20260419T115117UTC-0535EaDSXf@https://dewillem.nl/
DTSTAMP:20260419T115117Z
DESCRIPTION: https://dewillem.nl/actueel/agenda/evenement/696-leerlingen-ro
 ostervrij
DTSTART;VALUE=DATE:20210121
LOCATION:Beide  (Randweg 2)
SUMMARY:Leerlingen roostervrij
URL:https://dewillem.nl/actueel/agenda/evenement/696-leerlingen-roostervrij
END:VEVENT
END:VCALENDAR
