BEGIN:VCALENDAR
VERSION:2.0
PRODID:-//https://dewillem.nl///NONSGML kigkonsult.se iCalcreator 2.10.15//
METHOD:PUBLISH
BEGIN:VEVENT
UID:20260419T131404UTC-4600Pep6Us@https://dewillem.nl/
DTSTAMP:20260419T131404Z
DESCRIPTION: https://dewillem.nl/actueel/agenda/evenement/691-luistertoetse
 n-v6
DTSTART;VALUE=DATE:20210128
LOCATION:Locatie Zoomwijck (Randweg 2\, 3263 RA Oud-Beijerland)
SUMMARY:Luistertoetsen V6
URL:https://dewillem.nl/actueel/agenda/evenement/691-luistertoetsen-v6
END:VEVENT
END:VCALENDAR
