BEGIN:VCALENDAR
VERSION:2.0
PRODID:-//https://dewillem.nl///NONSGML kigkonsult.se iCalcreator 2.10.15//
METHOD:PUBLISH
BEGIN:VEVENT
UID:20260419T114847UTC-5636XFZwit@https://dewillem.nl/
DTSTAMP:20260419T114847Z
DESCRIPTION: https://dewillem.nl/actueel/agenda/evenement/689-luistertoetse
 n-m4-h5
DTSTART;VALUE=DATE:20210129
LOCATION:Beide  (Randweg 2)
SUMMARY:Luistertoetsen M4/H5
URL:https://dewillem.nl/actueel/agenda/evenement/689-luistertoetsen-m4-h5
END:VEVENT
END:VCALENDAR
