BEGIN:VCALENDAR
VERSION:2.0
PRODID:-//https://dewillem.nl///NONSGML kigkonsult.se iCalcreator 2.10.15//
METHOD:PUBLISH
BEGIN:VEVENT
UID:20260419T123420UTC-66860Joo3V@https://dewillem.nl/
DTSTAMP:20260419T123420Z
DESCRIPTION: https://dewillem.nl/actueel/agenda/evenement/665-informatieavo
 nd-studiekeuze-poortwijk-online
DTSTART:20210304T173000Z
DTEND:20210304T203000Z
LOCATION:Locatie Poortwijk (Polderlaan 2\, 3261 ZA Oud-Beijerland)
SUMMARY:Informatieavond studiekeuze Poortwijk (online)
URL:https://dewillem.nl/actueel/agenda/evenement/665-informatieavond-studie
 keuze-poortwijk-online
END:VEVENT
END:VCALENDAR
