BEGIN:VCALENDAR
VERSION:2.0
PRODID:-//https://dewillem.nl///NONSGML kigkonsult.se iCalcreator 2.10.15//
METHOD:PUBLISH
BEGIN:VEVENT
UID:20260419T172944UTC-6491WikGSd@https://dewillem.nl/
DTSTAMP:20260419T172944Z
DESCRIPTION: https://dewillem.nl/actueel/agenda/evenement/798-boeken-halen-
 bovenbouw-m-h-v
DTSTART:20200831T113000Z
DTEND:20200831T124800Z
LOCATION:Beide  (Randweg 2)
SUMMARY:Boeken halen bovenbouw M/H/V
URL:https://dewillem.nl/actueel/agenda/evenement/798-boeken-halen-bovenbouw
 -m-h-v
END:VEVENT
BEGIN:VEVENT
UID:20260419T172944UTC-6492G3lPfl@https://dewillem.nl/
DTSTAMP:20260419T172944Z
DESCRIPTION: https://dewillem.nl/actueel/agenda/evenement/799-start-schoolj
 aar-2020-2021
DTSTART;VALUE=DATE:20200831
LOCATION:Beide  (Randweg 2)
SUMMARY:Start schooljaar 2020-2021
URL:https://dewillem.nl/actueel/agenda/evenement/799-start-schooljaar-2020-
 2021
END:VEVENT
BEGIN:VEVENT
UID:20260419T172944UTC-6493XdWAvS@https://dewillem.nl/
DTSTAMP:20260419T172944Z
DESCRIPTION: https://dewillem.nl/actueel/agenda/evenement/800-lesvrije-dag-
 voor-leerlingen
DTSTART;VALUE=DATE:20200831
LOCATION:Beide  (Randweg 2)
SUMMARY:Lesvrije dag voor leerlingen
URL:https://dewillem.nl/actueel/agenda/evenement/800-lesvrije-dag-voor-leer
 lingen
END:VEVENT
END:VCALENDAR
