BEGIN:VCALENDAR
VERSION:2.0
PRODID:-//https://dewillem.nl///NONSGML kigkonsult.se iCalcreator 2.10.15//
METHOD:PUBLISH
BEGIN:VEVENT
UID:20260419T172943UTC-7816hZEeOp@https://dewillem.nl/
DTSTAMP:20260419T172943Z
DESCRIPTION: https://dewillem.nl/actueel/agenda/evenement/791-jaaropening-o
 nderbouw-m-h-v-aansluitend-boeken-en-les
DTSTART:20200901T071500Z
DTEND:20200901T090200Z
LOCATION:Beide  (Randweg 2)
SUMMARY:Jaaropening onderbouw M/H/V (aansluitend boeken en les)
URL:https://dewillem.nl/actueel/agenda/evenement/791-jaaropening-onderbouw-
 m-h-v-aansluitend-boeken-en-les
END:VEVENT
BEGIN:VEVENT
UID:20260419T172943UTC-7818MJEzxm@https://dewillem.nl/
DTSTAMP:20260419T172943Z
DESCRIPTION: https://dewillem.nl/actueel/agenda/evenement/792-jaaropening-b
 rugklas
DTSTART:20200901T063000Z
DTEND:20200901T085400Z
LOCATION:Beide  (Randweg 2)
SUMMARY:Jaaropening brugklas 
URL:https://dewillem.nl/actueel/agenda/evenement/792-jaaropening-brugklas
END:VEVENT
BEGIN:VEVENT
UID:20260419T172943UTC-7819Ce41Uv@https://dewillem.nl/
DTSTAMP:20260419T172943Z
DESCRIPTION: https://dewillem.nl/actueel/agenda/evenement/793-schoolfotogra
 af-zw-vlgs-bijgaand-rooster
DTSTART:20200901T063000Z
DTEND:20200903T090000Z
LOCATION:Locatie Zoomwijck (Randweg 2\, 3263 RA Oud-Beijerland)
SUMMARY:Schoolfotograaf ZW vlgs. bijgaand rooster
URL:https://dewillem.nl/actueel/agenda/evenement/793-schoolfotograaf-zw-vlg
 s-bijgaand-rooster
END:VEVENT
BEGIN:VEVENT
UID:20260419T172943UTC-7819UacLoU@https://dewillem.nl/
DTSTAMP:20260419T172943Z
DESCRIPTION: https://dewillem.nl/actueel/agenda/evenement/794-start-lessen-
 bovenbouw-m-h-v
DTSTART;VALUE=DATE:20200901
LOCATION:Beide  (Randweg 2)
SUMMARY:Start lessen bovenbouw M/H/V
URL:https://dewillem.nl/actueel/agenda/evenement/794-start-lessen-bovenbouw
 -m-h-v
END:VEVENT
BEGIN:VEVENT
UID:20260419T172943UTC-7820UrVSR5@https://dewillem.nl/
DTSTAMP:20260419T172943Z
DESCRIPTION: https://dewillem.nl/actueel/agenda/evenement/795-start-introdu
 ctieweek-klas-1
DTSTART;VALUE=DATE:20200901
LOCATION:Beide  (Randweg 2)
SUMMARY:Start introductieweek klas 1
URL:https://dewillem.nl/actueel/agenda/evenement/795-start-introductieweek-
 klas-1
END:VEVENT
BEGIN:VEVENT
UID:20260419T172943UTC-7821GgpbSk@https://dewillem.nl/
DTSTAMP:20260419T172943Z
DESCRIPTION: https://dewillem.nl/actueel/agenda/evenement/796-mono-team-ale
 rt-voor-brugklassen-zw
DTSTART;VALUE=DATE:20200901
LOCATION:Locatie Zoomwijck (Randweg 2\, 3263 RA Oud-Beijerland)
SUMMARY:Mono (Team Alert) voor brugklassen ZW
URL:https://dewillem.nl/actueel/agenda/evenement/796-mono-team-alert-voor-b
 rugklassen-zw
END:VEVENT
BEGIN:VEVENT
UID:20260419T172943UTC-7821HWPNgH@https://dewillem.nl/
DTSTAMP:20260419T172943Z
DESCRIPTION: https://dewillem.nl/actueel/agenda/evenement/797-the-battle-vo
 or-klas-1-pw
DTSTART:20200831T220000Z
DTEND:20200902T071200Z
LOCATION:Locatie Poortwijk (Polderlaan 2\, 3261 ZA Oud-Beijerland)
SUMMARY:The Battle voor klas 1 PW
URL:https://dewillem.nl/actueel/agenda/evenement/797-the-battle-voor-klas-1
 -pw
END:VEVENT
END:VCALENDAR
