BEGIN:VCALENDAR
VERSION:2.0
PRODID:-//https://dewillem.nl///NONSGML kigkonsult.se iCalcreator 2.10.15//
METHOD:PUBLISH
BEGIN:VEVENT
UID:20260419T173041UTC-9552369lZv@https://dewillem.nl/
DTSTAMP:20260419T173041Z
DESCRIPTION: https://dewillem.nl/actueel/agenda/evenement/790-introductie-k
 las-1
DTSTART;VALUE=DATE:20200902
LOCATION:Beide  (Randweg 2)
SUMMARY:Introductie klas 1 
URL:https://dewillem.nl/actueel/agenda/evenement/790-introductie-klas-1
END:VEVENT
BEGIN:VEVENT
UID:20260419T173041UTC-9553W7SMs4@https://dewillem.nl/
DTSTAMP:20260419T173041Z
DESCRIPTION: https://dewillem.nl/actueel/agenda/evenement/793-schoolfotogra
 af-zw-vlgs-bijgaand-rooster
DTSTART:20200901T063000Z
DTEND:20200903T090000Z
LOCATION:Locatie Zoomwijck (Randweg 2\, 3263 RA Oud-Beijerland)
SUMMARY:Schoolfotograaf ZW vlgs. bijgaand rooster
URL:https://dewillem.nl/actueel/agenda/evenement/793-schoolfotograaf-zw-vlg
 s-bijgaand-rooster
END:VEVENT
BEGIN:VEVENT
UID:20260419T173041UTC-9554OUdtux@https://dewillem.nl/
DTSTAMP:20260419T173041Z
DESCRIPTION: https://dewillem.nl/actueel/agenda/evenement/797-the-battle-vo
 or-klas-1-pw
DTSTART:20200831T220000Z
DTEND:20200902T071200Z
LOCATION:Locatie Poortwijk (Polderlaan 2\, 3261 ZA Oud-Beijerland)
SUMMARY:The Battle voor klas 1 PW
URL:https://dewillem.nl/actueel/agenda/evenement/797-the-battle-voor-klas-1
 -pw
END:VEVENT
END:VCALENDAR
