BEGIN:VCALENDAR
VERSION:2.0
PRODID:-//https://dewillem.nl///NONSGML kigkonsult.se iCalcreator 2.10.15//
METHOD:PUBLISH
BEGIN:VEVENT
UID:20260419T173133UTC-5763aigdoM@https://dewillem.nl/
DTSTAMP:20260419T173133Z
DESCRIPTION: https://dewillem.nl/actueel/agenda/evenement/782-stewardtraini
 ng-klas-1
DTSTART;VALUE=DATE:20200914
LOCATION:Locatie Poortwijk (Polderlaan 2\, 3261 ZA Oud-Beijerland)
SUMMARY:Stewardtraining klas 1 
URL:https://dewillem.nl/actueel/agenda/evenement/782-stewardtraining-klas-1
END:VEVENT
END:VCALENDAR
