BEGIN:VCALENDAR
VERSION:2.0
PRODID:-//https://dewillem.nl///NONSGML kigkonsult.se iCalcreator 2.10.15//
METHOD:PUBLISH
BEGIN:VEVENT
UID:20260419T173021UTC-5483AB8ZV0@https://dewillem.nl/
DTSTAMP:20260419T173021Z
DESCRIPTION: https://dewillem.nl/actueel/agenda/evenement/779-informatieavo
 nd-brugklas-vlgs-rooster
DTSTART:20200915T170000Z
DTEND:20200915T180000Z
LOCATION:Locatie Zoomwijck (Randweg 2\, 3263 RA Oud-Beijerland)
SUMMARY:Informatieavond brugklas vlgs rooster
URL:https://dewillem.nl/actueel/agenda/evenement/779-informatieavond-brugkl
 as-vlgs-rooster
END:VEVENT
BEGIN:VEVENT
UID:20260419T173021UTC-5484RUgL0c@https://dewillem.nl/
DTSTAMP:20260419T173021Z
DESCRIPTION: https://dewillem.nl/actueel/agenda/evenement/780-aanvragen-her
 kansingen-uit-vwo-5-uiterlijk-13-00-uur
DTSTART;VALUE=DATE:20200915
LOCATION:Locatie Zoomwijck (Randweg 2\, 3263 RA Oud-Beijerland)
SUMMARY:Aanvragen herkansingen uit vwo 5 (uiterlijk 13:00 uur)
URL:https://dewillem.nl/actueel/agenda/evenement/780-aanvragen-herkansingen
 -uit-vwo-5-uiterlijk-13-00-uur
END:VEVENT
END:VCALENDAR
