BEGIN:VCALENDAR
VERSION:2.0
PRODID:-//https://dewillem.nl///NONSGML kigkonsult.se iCalcreator 2.10.15//
METHOD:PUBLISH
BEGIN:VEVENT
UID:20260419T173014UTC-5797x60fBc@https://dewillem.nl/
DTSTAMP:20260419T173014Z
DESCRIPTION: https://dewillem.nl/actueel/agenda/evenement/777-informatieavo
 nd-brugklas-vlgs-rooster
DTSTART:20200916T163000Z
DTEND:20200916T190000Z
LOCATION:Beide  (Randweg 2)
SUMMARY:Informatieavond Brugklas vlgs rooster
URL:https://dewillem.nl/actueel/agenda/evenement/777-informatieavond-brugkl
 as-vlgs-rooster
END:VEVENT
BEGIN:VEVENT
UID:20260419T173014UTC-5799Z4cnKk@https://dewillem.nl/
DTSTAMP:20260419T173014Z
DESCRIPTION: https://dewillem.nl/actueel/agenda/evenement/778-stewardtraini
 ng-klas-3
DTSTART;VALUE=DATE:20200916
LOCATION:Locatie Poortwijk (Polderlaan 2\, 3261 ZA Oud-Beijerland)
SUMMARY:Stewardtraining klas 3 
URL:https://dewillem.nl/actueel/agenda/evenement/778-stewardtraining-klas-3
END:VEVENT
END:VCALENDAR
