BEGIN:VCALENDAR
VERSION:2.0
PRODID:-//https://dewillem.nl///NONSGML kigkonsult.se iCalcreator 2.10.15//
METHOD:PUBLISH
BEGIN:VEVENT
UID:20260419T173021UTC-5220gvIJff@https://dewillem.nl/
DTSTAMP:20260419T173021Z
DESCRIPTION:Op de dag dat de Informatieavond van uw zoon/dochter op de agen
 da staat vindt u de presentatie van onze conrectoren bij het betreffende l
 eerjaar op www.dewillem.nl/leerjarenDe mentor start om 20.00 uur een Googl
 e Meet-bijeenkomst waarin meer informatie wordt gegeven en ruimte is om al
 gemene vragen te stellen.Afhankelijk van de grootte van de groep wordt dez
 e vergadering met alle ouders/verzorgers tegelijk of in groepen gehouden. 
 De mentor houdt u hiervan op de hoogte en nodigt u uit d.m.v. het sturen v
 an een link. Voor persoonlijke zaken adviseren wij een ander moment met de
  mentor af te spreken. https://dewillem.nl/actueel/agenda/evenement/774-in
 formatieavond-m4-online
DTSTART:20200917T173000Z
DTEND:20200917T183700Z
LOCATION:Locatie Poortwijk (Polderlaan 2\, 3261 ZA Oud-Beijerland)
SUMMARY:Informatieavond M4 - online
URL:https://dewillem.nl/actueel/agenda/evenement/774-informatieavond-m4-onl
 ine
END:VEVENT
BEGIN:VEVENT
UID:20260419T173021UTC-5222oL1WMj@https://dewillem.nl/
DTSTAMP:20260419T173021Z
DESCRIPTION:Op de dag dat de Informatieavond van uw zoon/dochter op de agen
 da staat vindt u de presentatie van onze conrectoren bij het betreffende l
 eerjaar op www.dewillem.nl/leerjarenDe mentor start om 20.00 uur een Googl
 e Meet-bijeenkomst waarin meer informatie wordt gegeven en ruimte is om al
 gemene vragen te stellen.Afhankelijk van de grootte van de groep wordt dez
 e vergadering met alle ouders/verzorgers tegelijk of in groepen gehouden. 
 De mentor houdt u hiervan op de hoogte en nodigt u uit d.m.v. het sturen v
 an een link. Voor persoonlijke zaken adviseren wij een ander moment met de
  mentor af te spreken. https://dewillem.nl/actueel/agenda/evenement/775-in
 formatieavond-h5-online
DTSTART:20200917T173000Z
DTEND:20200917T183800Z
LOCATION:Locatie Zoomwijck (Randweg 2\, 3263 RA Oud-Beijerland)
SUMMARY:Informatieavond H5 - online
URL:https://dewillem.nl/actueel/agenda/evenement/775-informatieavond-h5-onl
 ine
END:VEVENT
BEGIN:VEVENT
UID:20260419T173021UTC-5223KAH7lx@https://dewillem.nl/
DTSTAMP:20260419T173021Z
DESCRIPTION: https://dewillem.nl/actueel/agenda/evenement/776-informatieavo
 nd-brugklas-vlgs-rooster
DTSTART:20200917T163000Z
DTEND:20200917T190000Z
LOCATION:Locatie Zoomwijck (Randweg 2\, 3263 RA Oud-Beijerland)
SUMMARY:Informatieavond Brugklas vlgs rooster
URL:https://dewillem.nl/actueel/agenda/evenement/776-informatieavond-brugkl
 as-vlgs-rooster
END:VEVENT
END:VCALENDAR
