BEGIN:VCALENDAR
VERSION:2.0
PRODID:-//https://dewillem.nl///NONSGML kigkonsult.se iCalcreator 2.10.15//
METHOD:PUBLISH
BEGIN:VEVENT
UID:20260419T173221UTC-6789h6KWnb@https://dewillem.nl/
DTSTAMP:20260419T173221Z
DESCRIPTION:Op de dag dat de Informatieavond van uw zoon/dochter op de agen
 da staat vindt u de presentatie van onze conrectoren bij het betreffende l
 eerjaar op www.dewillem.nl/leerjarenDe mentor start om 20.00 uur een Googl
 e Meet-bijeenkomst waarin meer informatie wordt gegeven en ruimte is om al
 gemene vragen te stellen.Afhankelijk van de grootte van de groep wordt dez
 e vergadering met alle ouders/verzorgers tegelijk of in groepen gehouden. 
 De mentor houdt u hiervan op de hoogte en nodigt u uit d.m.v. het sturen v
 an een link. Voor persoonlijke zaken adviseren wij een ander moment met de
  mentor af te spreken. https://dewillem.nl/actueel/agenda/evenement/768-in
 formatieavond-h3-v3
DTSTART:20200921T173000Z
DTEND:20200921T182900Z
LOCATION:Locatie Zoomwijck (Randweg 2\, 3263 RA Oud-Beijerland)
SUMMARY:Informatieavond H3/V3 
URL:https://dewillem.nl/actueel/agenda/evenement/768-informatieavond-h3-v3
END:VEVENT
BEGIN:VEVENT
UID:20260419T173221UTC-6791Wci4eO@https://dewillem.nl/
DTSTAMP:20260419T173221Z
DESCRIPTION: https://dewillem.nl/actueel/agenda/evenement/769-schoolfotogra
 af-zw-brugklassen-zie-rooster
DTSTART:20200921T105500Z
DTEND:20200921T130000Z
LOCATION:Locatie Zoomwijck (Randweg 2\, 3263 RA Oud-Beijerland)
SUMMARY:Schoolfotograaf ZW - brugklassen (zie rooster)
URL:https://dewillem.nl/actueel/agenda/evenement/769-schoolfotograaf-zw-bru
 gklassen-zie-rooster
END:VEVENT
BEGIN:VEVENT
UID:20260419T173221UTC-6791idxKVa@https://dewillem.nl/
DTSTAMP:20260419T173221Z
DESCRIPTION: https://dewillem.nl/actueel/agenda/evenement/771-deze-week-act
 iviteiten-tto-2-mbt-europese-dag-vd-talen
DTSTART;VALUE=DATE:20200921
LOCATION:Locatie Zoomwijck (Randweg 2\, 3263 RA Oud-Beijerland)
SUMMARY:(Deze week) Activiteiten tto-2 mbt Europese Dag vd Talen
URL:https://dewillem.nl/actueel/agenda/evenement/771-deze-week-activiteiten
 -tto-2-mbt-europese-dag-vd-talen
END:VEVENT
BEGIN:VEVENT
UID:20260419T173221UTC-6792uKXzlj@https://dewillem.nl/
DTSTAMP:20260419T173221Z
DESCRIPTION: https://dewillem.nl/actueel/agenda/evenement/772-schoolfotogra
 af-pw-klassen-2-t-m-4
DTSTART;VALUE=DATE:20200921
LOCATION:Locatie Poortwijk (Polderlaan 2\, 3261 ZA Oud-Beijerland)
SUMMARY:Schoolfotograaf PW - klassen 2 t/m 4
URL:https://dewillem.nl/actueel/agenda/evenement/772-schoolfotograaf-pw-kla
 ssen-2-t-m-4
END:VEVENT
END:VCALENDAR
