BEGIN:VCALENDAR
VERSION:2.0
PRODID:-//https://dewillem.nl///NONSGML kigkonsult.se iCalcreator 2.10.15//
METHOD:PUBLISH
BEGIN:VEVENT
UID:20260419T172945UTC-0719kfciMG@https://dewillem.nl/
DTSTAMP:20260419T172945Z
DESCRIPTION:Op de dag dat de Informatieavond van uw zoon/dochter op de agen
 da staat vindt u de presentatie van onze conrectoren bij het betreffende l
 eerjaar op www.dewillem.nl/leerjarenDe mentor start om 20.00 uur een Googl
 e Meet-bijeenkomst waarin meer informatie wordt gegeven en ruimte is om al
 gemene vragen te stellen.Afhankelijk van de grootte van de groep wordt dez
 e vergadering met alle ouders/verzorgers tegelijk of in groepen gehouden. 
 De mentor houdt u hiervan op de hoogte en nodigt u uit d.m.v. het sturen v
 an een link. Voor persoonlijke zaken adviseren wij een ander moment met de
  mentor af te spreken. https://dewillem.nl/actueel/agenda/evenement/765-in
 formatieavond-v4-v5
DTSTART:20200922T173000Z
DTEND:20200922T193000Z
LOCATION:Locatie Zoomwijck (Randweg 2\, 3263 RA Oud-Beijerland)
SUMMARY:Informatieavond V4/V5
URL:https://dewillem.nl/actueel/agenda/evenement/765-informatieavond-v4-v5
END:VEVENT
BEGIN:VEVENT
UID:20260419T172945UTC-0721HZPI02@https://dewillem.nl/
DTSTAMP:20260419T172945Z
DESCRIPTION:Op de dag dat de Informatieavond van uw zoon/dochter op de agen
 da staat vindt u de presentatie van onze conrectoren bij het betreffende l
 eerjaar op www.dewillem.nl/leerjarenDe mentor start om 20.00 uur een Googl
 e Meet-bijeenkomst waarin meer informatie wordt gegeven en ruimte is om al
 gemene vragen te stellen.Afhankelijk van de grootte van de groep wordt dez
 e vergadering met alle ouders/verzorgers tegelijk of in groepen gehouden. 
 De mentor houdt u hiervan op de hoogte en nodigt u uit d.m.v. het sturen v
 an een link. Voor persoonlijke zaken adviseren wij een ander moment met de
  mentor af te spreken. https://dewillem.nl/actueel/agenda/evenement/766-in
 formatieavond-m3-online
DTSTART:20200922T173000Z
DTEND:20200922T185900Z
LOCATION:Locatie Poortwijk (Polderlaan 2\, 3261 ZA Oud-Beijerland)
SUMMARY:Informatieavond M3 - online
URL:https://dewillem.nl/actueel/agenda/evenement/766-informatieavond-m3-onl
 ine
END:VEVENT
BEGIN:VEVENT
UID:20260419T172945UTC-0722U9a3lI@https://dewillem.nl/
DTSTAMP:20260419T172945Z
DESCRIPTION: https://dewillem.nl/actueel/agenda/evenement/767-herkansingen-
 uit-vwo-5
DTSTART:20200922T123000Z
DTEND:20200922T135500Z
LOCATION:Locatie Zoomwijck (Randweg 2\, 3263 RA Oud-Beijerland)
SUMMARY:Herkansingen uit vwo-5
URL:https://dewillem.nl/actueel/agenda/evenement/767-herkansingen-uit-vwo-5
END:VEVENT
END:VCALENDAR
