BEGIN:VCALENDAR
VERSION:2.0
PRODID:-//https://dewillem.nl///NONSGML kigkonsult.se iCalcreator 2.10.15//
METHOD:PUBLISH
BEGIN:VEVENT
UID:20260419T173021UTC-7921GnpHfU@https://dewillem.nl/
DTSTAMP:20260419T173021Z
DESCRIPTION:Op de dag dat de Informatieavond van uw zoon/dochter op de agen
 da staat vindt u de presentatie van onze conrectoren bij het betreffende l
 eerjaar op www.dewillem.nl/leerjarenDe mentor start om 20.00 uur een Googl
 e Meet-bijeenkomst waarin meer informatie wordt gegeven en ruimte is om al
 gemene vragen te stellen.Afhankelijk van de grootte van de groep wordt dez
 e vergadering met alle ouders/verzorgers tegelijk of in groepen gehouden. 
 De mentor houdt u hiervan op de hoogte en nodigt u uit d.m.v. het sturen v
 an een link. Voor persoonlijke zaken adviseren wij een ander moment met de
  mentor af te spreken. https://dewillem.nl/actueel/agenda/evenement/762-in
 formatieavond-h2-v2-online
DTSTART:20200924T173000Z
DTEND:20200924T180300Z
LOCATION:Locatie Zoomwijck (Randweg 2\, 3263 RA Oud-Beijerland)
SUMMARY:Informatieavond H2/V2 - online
URL:https://dewillem.nl/actueel/agenda/evenement/762-informatieavond-h2-v2-
 online
END:VEVENT
BEGIN:VEVENT
UID:20260419T173021UTC-7923phwJIi@https://dewillem.nl/
DTSTAMP:20260419T173021Z
DESCRIPTION: https://dewillem.nl/actueel/agenda/evenement/763-eu-quiz-chall
 enge-tto-1
DTSTART;VALUE=DATE:20200924
LOCATION:Locatie Zoomwijck (Randweg 2\, 3263 RA Oud-Beijerland)
SUMMARY:EU-quiz challenge tto-1
URL:https://dewillem.nl/actueel/agenda/evenement/763-eu-quiz-challenge-tto-
 1
END:VEVENT
END:VCALENDAR
