BEGIN:VCALENDAR
VERSION:2.0
PRODID:-//https://dewillem.nl///NONSGML kigkonsult.se iCalcreator 2.10.15//
METHOD:PUBLISH
BEGIN:VEVENT
UID:20260419T173021UTC-70132FHSuF@https://dewillem.nl/
DTSTAMP:20260419T173021Z
DESCRIPTION: https://dewillem.nl/actueel/agenda/evenement/761-badmintontoer
 nooi-alle-klassen-zw
DTSTART;VALUE=DATE:20200925
LOCATION:Locatie Zoomwijck (Randweg 2\, 3263 RA Oud-Beijerland)
SUMMARY:Badmintontoernooi alle klassen ZW
URL:https://dewillem.nl/actueel/agenda/evenement/761-badmintontoernooi-alle
 -klassen-zw
END:VEVENT
END:VCALENDAR
