BEGIN:VCALENDAR
VERSION:2.0
PRODID:-//https://dewillem.nl///NONSGML kigkonsult.se iCalcreator 2.10.15//
METHOD:PUBLISH
BEGIN:VEVENT
UID:20260419T160407UTC-9119uAZBAr@https://dewillem.nl/
DTSTAMP:20260419T160407Z
DESCRIPTION:Op de dag dat de Informatieavond van uw zoon/dochter op de agen
 da staat vindt u de presentatie van onze conrectoren bij het betreffende l
 eerjaar op www.dewillem.nl/leerjarenDe mentor start om 20.00 uur een Googl
 e Meet-bijeenkomst waarin meer informatie wordt gegeven en ruimte is om al
 gemene vragen te stellen.Afhankelijk van de grootte van de groep wordt dez
 e vergadering met alle ouders/verzorgers tegelijk of in groepen gehouden. 
 De mentor houdt u hiervan op de hoogte en nodigt u uit d.m.v. het sturen v
 an een link. Voor persoonlijke zaken adviseren wij een ander moment met de
  mentor af te spreken. https://dewillem.nl/actueel/agenda/evenement/760-in
 formatieavond-h4-online
DTSTART:20200928T173000Z
DTEND:20200928T180900Z
LOCATION:Locatie Zoomwijck (Randweg 2\, 3263 RA Oud-Beijerland)
SUMMARY:Informatieavond H4 - online
URL:https://dewillem.nl/actueel/agenda/evenement/760-informatieavond-h4-onl
 ine
END:VEVENT
END:VCALENDAR
