BEGIN:VCALENDAR
VERSION:2.0
PRODID:-//https://dewillem.nl///NONSGML kigkonsult.se iCalcreator 2.10.15//
METHOD:PUBLISH
BEGIN:VEVENT
UID:20260419T160337UTC-4151s4HGeX@https://dewillem.nl/
DTSTAMP:20260419T160337Z
DESCRIPTION:Op de dag dat de Informatieavond van uw zoon/dochter op de agen
 da staat vindt u de presentatie van onze conrectoren bij het betreffende l
 eerjaar op www.dewillem.nl/leerjarenDe mentor start om 20.00 uur een Googl
 e Meet-bijeenkomst waarin meer informatie wordt gegeven en ruimte is om al
 gemene vragen te stellen.Afhankelijk van de grootte van de groep wordt dez
 e vergadering met alle ouders/verzorgers tegelijk of in groepen gehouden. 
 De mentor houdt u hiervan op de hoogte en nodigt u uit d.m.v. het sturen v
 an een link. Voor persoonlijke zaken adviseren wij een ander moment met de
  mentor af te spreken. https://dewillem.nl/actueel/agenda/evenement/758-in
 formatieavond-m2-online
DTSTART:20200929T173000Z
DTEND:20200929T181300Z
LOCATION:Locatie Poortwijk (Polderlaan 2\, 3261 ZA Oud-Beijerland)
SUMMARY:Informatieavond M2 - online
URL:https://dewillem.nl/actueel/agenda/evenement/758-informatieavond-m2-onl
 ine
END:VEVENT
BEGIN:VEVENT
UID:20260419T160337UTC-4152gvWdhu@https://dewillem.nl/
DTSTAMP:20260419T160337Z
DESCRIPTION: https://dewillem.nl/actueel/agenda/evenement/759-filmmiddag-tf
 -duits
DTSTART:20200928T220000Z
DTEND:20200929T131200Z
LOCATION:Locatie Zoomwijck (Randweg 2\, 3263 RA Oud-Beijerland)
SUMMARY:Filmmiddag TF Duits 
URL:https://dewillem.nl/actueel/agenda/evenement/759-filmmiddag-tf-duits
END:VEVENT
END:VCALENDAR
