BEGIN:VCALENDAR
VERSION:2.0
PRODID:-//https://dewillem.nl///NONSGML kigkonsult.se iCalcreator 2.10.15//
METHOD:PUBLISH
BEGIN:VEVENT
UID:20260419T160418UTC-3950Vr1a16@https://dewillem.nl/
DTSTAMP:20260419T160418Z
DESCRIPTION: https://dewillem.nl/actueel/agenda/evenement/757-deze-week-act
 iveren-qompas-studiekeuze-v5
DTSTART;VALUE=DATE:20201005
LOCATION:Locatie Zoomwijck (Randweg 2\, 3263 RA Oud-Beijerland)
SUMMARY:Deze week activeren Qompas-studiekeuze V5
URL:https://dewillem.nl/actueel/agenda/evenement/757-deze-week-activeren-qo
 mpas-studiekeuze-v5
END:VEVENT
END:VCALENDAR
