BEGIN:VCALENDAR
VERSION:2.0
PRODID:-//https://dewillem.nl///NONSGML kigkonsult.se iCalcreator 2.10.15//
METHOD:PUBLISH
BEGIN:VEVENT
UID:20260419T160509UTC-8680bewHRL@https://dewillem.nl/
DTSTAMP:20260419T160509Z
DESCRIPTION: https://dewillem.nl/actueel/agenda/evenement/756-voorstelling-
 zeven-sloten-voor-m2
DTSTART;VALUE=DATE:20201009
LOCATION:Locatie Poortwijk (Polderlaan 2\, 3261 ZA Oud-Beijerland)
SUMMARY:Voorstelling Zeven Sloten voor M2
URL:https://dewillem.nl/actueel/agenda/evenement/756-voorstelling-zeven-slo
 ten-voor-m2
END:VEVENT
END:VCALENDAR
