BEGIN:VCALENDAR
VERSION:2.0
PRODID:-//https://dewillem.nl///NONSGML kigkonsult.se iCalcreator 2.10.15//
METHOD:PUBLISH
BEGIN:VEVENT
UID:20260419T173221UTC-51538xTx35@https://dewillem.nl/
DTSTAMP:20260419T173221Z
DESCRIPTION: https://dewillem.nl/actueel/agenda/evenement/755-masterclass-w
 iskunde
DTSTART:20201012T123000Z
DTEND:20201012T140000Z
LOCATION:Beide  (Randweg 2)
SUMMARY:Masterclass wiskunde
URL:https://dewillem.nl/actueel/agenda/evenement/755-masterclass-wiskunde
END:VEVENT
END:VCALENDAR
