BEGIN:VCALENDAR
VERSION:2.0
PRODID:-//https://dewillem.nl///NONSGML kigkonsult.se iCalcreator 2.10.15//
METHOD:PUBLISH
BEGIN:VEVENT
UID:20260419T160417UTC-72225EuAMl@https://dewillem.nl/
DTSTAMP:20260419T160417Z
DESCRIPTION:Locatie Zoomwijck:08.45 examenfoto H5*) 09.15 na-fotografie lee
 rlingen die nog niet zijn gefotografeerd09.55 - 10.20 examenfoto V610.25 -
  10-35 vervolg na-fotografie leerlingen die nog niet zijn gefotografeerd10
 .40 fotografie personeelLocatie Poortwijk:12.00 - 12.25 na-fotografie leer
 lingen die nog niet zijn gefotografeerd12.30 fotografie personeel*) Wannee
 r het om die tijd nog te donker is\, wordt de examenfoto H5 uitgesteld naa
 r het voorjaar. https://dewillem.nl/actueel/agenda/evenement/754-na-fotogr
 afie
DTSTART;VALUE=DATE:20201013
LOCATION:Beide  (Randweg 2)
SUMMARY:Na-fotografie 
URL:https://dewillem.nl/actueel/agenda/evenement/754-na-fotografie
END:VEVENT
END:VCALENDAR
