BEGIN:VCALENDAR
VERSION:2.0
PRODID:-//https://dewillem.nl///NONSGML kigkonsult.se iCalcreator 2.10.15//
METHOD:PUBLISH
BEGIN:VEVENT
UID:20260419T160509UTC-9090czgddj@https://dewillem.nl/
DTSTAMP:20260419T160509Z
DESCRIPTION: https://dewillem.nl/actueel/agenda/evenement/752-vergadering-k
 lankbordgroepen
DTSTART:20201014T173000Z
DTEND:20201014T182200Z
LOCATION:Locatie Zoomwijck (Randweg 2\, 3263 RA Oud-Beijerland)
SUMMARY:Vergadering Klankbordgroepen 
URL:https://dewillem.nl/actueel/agenda/evenement/752-vergadering-klankbordg
 roepen
END:VEVENT
BEGIN:VEVENT
UID:20260419T160509UTC-9091L5KwWo@https://dewillem.nl/
DTSTAMP:20260419T160509Z
DESCRIPTION: https://dewillem.nl/actueel/agenda/evenement/753-meet-the-tale
 nts
DTSTART:20201014T113000Z
DTEND:20201014T140000Z
LOCATION:Locatie Zoomwijck (Randweg 2\, 3263 RA Oud-Beijerland)
SUMMARY:Meet the Talents
URL:https://dewillem.nl/actueel/agenda/evenement/753-meet-the-talents
END:VEVENT
END:VCALENDAR
