BEGIN:VCALENDAR
VERSION:2.0
PRODID:-//https://dewillem.nl///NONSGML kigkonsult.se iCalcreator 2.10.15//
METHOD:PUBLISH
BEGIN:VEVENT
UID:20260419T160509UTC-9286EbC50g@https://dewillem.nl/
DTSTAMP:20260419T160509Z
DESCRIPTION: https://dewillem.nl/actueel/agenda/evenement/751-herfstvakanti
 e
DTSTART:20201017T082400Z
DTEND:20201025T112400Z
LOCATION:Beide  (Randweg 2)
SUMMARY:Herfstvakantie 
URL:https://dewillem.nl/actueel/agenda/evenement/751-herfstvakantie
END:VEVENT
END:VCALENDAR
