BEGIN:VCALENDAR
VERSION:2.0
PRODID:-//https://dewillem.nl///NONSGML kigkonsult.se iCalcreator 2.10.15//
METHOD:PUBLISH
BEGIN:VEVENT
UID:20260419T143114UTC-4431RwN7Lj@https://dewillem.nl/
DTSTAMP:20260419T143114Z
DESCRIPTION: https://dewillem.nl/actueel/agenda/evenement/746-voorlichtings
 avond-locatie-zoomwijck-over-csg-willem-van-oranje-vol
DTSTART;VALUE=DATE:20201029
LOCATION:Locatie Zoomwijck (Randweg 2\, 3263 RA Oud-Beijerland)
SUMMARY:Voorlichtingsavond locatie Zoomwijck over CSG Willem van Oranje (VO
 L)
URL:https://dewillem.nl/actueel/agenda/evenement/746-voorlichtingsavond-loc
 atie-zoomwijck-over-csg-willem-van-oranje-vol
END:VEVENT
BEGIN:VEVENT
UID:20260419T143114UTC-44322v35zc@https://dewillem.nl/
DTSTAMP:20260419T143114Z
DESCRIPTION: https://dewillem.nl/actueel/agenda/evenement/750-se-periode-1
DTSTART:20201026T092600Z
DTEND:20201030T112600Z
LOCATION:Beide  (Randweg 2)
SUMMARY:SE periode 1
URL:https://dewillem.nl/actueel/agenda/evenement/750-se-periode-1
END:VEVENT
END:VCALENDAR
