BEGIN:VCALENDAR
VERSION:2.0
PRODID:-//https://dewillem.nl///NONSGML kigkonsult.se iCalcreator 2.10.15//
METHOD:PUBLISH
BEGIN:VEVENT
UID:20260419T144022UTC-1169ZBhSDJ@https://dewillem.nl/
DTSTAMP:20260419T144022Z
DESCRIPTION: https://dewillem.nl/actueel/agenda/evenement/742-online-worksh
 op-voor-ouders-lln-h5-door-hro
DTSTART:20201102T183000Z
DTEND:20201102T203000Z
LOCATION:Locatie Zoomwijck (Randweg 2\, 3263 RA Oud-Beijerland)
SUMMARY:Online workshop voor ouders lln H5 (door HRO)
URL:https://dewillem.nl/actueel/agenda/evenement/742-online-workshop-voor-o
 uders-lln-h5-door-hro
END:VEVENT
BEGIN:VEVENT
UID:20260419T144022UTC-1171TgVDNP@https://dewillem.nl/
DTSTAMP:20260419T144022Z
DESCRIPTION: https://dewillem.nl/actueel/agenda/evenement/743-masterclass-g
 rieks-latijn-mythologie
DTSTART:20201102T133000Z
DTEND:20201102T150000Z
LOCATION:Locatie Zoomwijck (Randweg 2\, 3263 RA Oud-Beijerland)
SUMMARY:Masterclass Grieks/Latijn (Mythologie)
URL:https://dewillem.nl/actueel/agenda/evenement/743-masterclass-grieks-lat
 ijn-mythologie
END:VEVENT
BEGIN:VEVENT
UID:20260419T144022UTC-11729eIrvf@https://dewillem.nl/
DTSTAMP:20260419T144022Z
DESCRIPTION: https://dewillem.nl/actueel/agenda/evenement/744-deze-week-act
 iveren-qompas-studiekeuze-h4
DTSTART;VALUE=DATE:20201102
LOCATION:Locatie Zoomwijck (Randweg 2\, 3263 RA Oud-Beijerland)
SUMMARY:(Deze week) Activeren Qompas-studiekeuze H4
URL:https://dewillem.nl/actueel/agenda/evenement/744-deze-week-activeren-qo
 mpas-studiekeuze-h4
END:VEVENT
BEGIN:VEVENT
UID:20260419T144022UTC-1172HauATf@https://dewillem.nl/
DTSTAMP:20260419T144022Z
DESCRIPTION: https://dewillem.nl/actueel/agenda/evenement/745-se-periode-1
DTSTART;VALUE=DATE:20201102
LOCATION:Beide  (Randweg 2)
SUMMARY:SE periode 1
URL:https://dewillem.nl/actueel/agenda/evenement/745-se-periode-1
END:VEVENT
END:VCALENDAR
