BEGIN:VCALENDAR
VERSION:2.0
PRODID:-//https://dewillem.nl///NONSGML kigkonsult.se iCalcreator 2.10.15//
METHOD:PUBLISH
BEGIN:VEVENT
UID:20260419T144025UTC-1098vcGXS9@https://dewillem.nl/
DTSTAMP:20260419T144025Z
DESCRIPTION: https://dewillem.nl/actueel/agenda/evenement/740-voorlichtings
 avond-over-financien-voor-v6-en-h5-onder-voorbehoud
DTSTART:20201103T183000Z
DTEND:20201103T193800Z
LOCATION:Locatie Zoomwijck (Randweg 2\, 3263 RA Oud-Beijerland)
SUMMARY:Voorlichtingsavond over financiën voor V6 en H5 (onder voorbehoud)
URL:https://dewillem.nl/actueel/agenda/evenement/740-voorlichtingsavond-ove
 r-financien-voor-v6-en-h5-onder-voorbehoud
END:VEVENT
BEGIN:VEVENT
UID:20260419T144025UTC-1100bnTkHl@https://dewillem.nl/
DTSTAMP:20260419T144025Z
DESCRIPTION: https://dewillem.nl/actueel/agenda/evenement/741-filmmiddag-fa
 -h5-1-2
DTSTART:20201103T133000Z
DTEND:20201103T143700Z
LOCATION:Locatie Zoomwijck (Randweg 2\, 3263 RA Oud-Beijerland)
SUMMARY:Filmmiddag Fa H5 (1/2)
URL:https://dewillem.nl/actueel/agenda/evenement/741-filmmiddag-fa-h5-1-2
END:VEVENT
END:VCALENDAR
