BEGIN:VCALENDAR
VERSION:2.0
PRODID:-//https://dewillem.nl///NONSGML kigkonsult.se iCalcreator 2.10.15//
METHOD:PUBLISH
BEGIN:VEVENT
UID:20260419T143305UTC-55243RvFH1@https://dewillem.nl/
DTSTAMP:20260419T143305Z
DESCRIPTION: https://dewillem.nl/actueel/agenda/evenement/739-basketbaltoer
 nooi-klas-3-t-m-6-zw
DTSTART;VALUE=DATE:20201104
LOCATION:Locatie Zoomwijck (Randweg 2\, 3263 RA Oud-Beijerland)
SUMMARY:Basketbaltoernooi klas 3 t/m 6 (ZW)
URL:https://dewillem.nl/actueel/agenda/evenement/739-basketbaltoernooi-klas
 -3-t-m-6-zw
END:VEVENT
END:VCALENDAR
