BEGIN:VCALENDAR
VERSION:2.0
PRODID:-//https://dewillem.nl///NONSGML kigkonsult.se iCalcreator 2.10.15//
METHOD:PUBLISH
BEGIN:VEVENT
UID:20260419T143113UTC-8102V9GHVR@https://dewillem.nl/
DTSTAMP:20260419T143113Z
DESCRIPTION: https://dewillem.nl/actueel/agenda/evenement/738-vervallen-bas
 ketbaltoernooi-klas-1-en-2-zw
DTSTART;VALUE=DATE:20201106
LOCATION:Locatie Zoomwijck (Randweg 2\, 3263 RA Oud-Beijerland)
SUMMARY:Vervallen: Basketbaltoernooi klas 1 en 2 (ZW)
URL:https://dewillem.nl/actueel/agenda/evenement/738-vervallen-basketbaltoe
 rnooi-klas-1-en-2-zw
END:VEVENT
END:VCALENDAR
