BEGIN:VCALENDAR
VERSION:2.0
PRODID:-//https://dewillem.nl///NONSGML kigkonsult.se iCalcreator 2.10.15//
METHOD:PUBLISH
BEGIN:VEVENT
UID:20260419T143346UTC-41723aK0hw@https://dewillem.nl/
DTSTAMP:20260419T143346Z
DESCRIPTION: https://dewillem.nl/actueel/agenda/evenement/737-online-worksh
 op-voor-ouders-lln-h5-door-hro
DTSTART:20201109T183000Z
DTEND:20201109T203000Z
LOCATION:Locatie Zoomwijck (Randweg 2\, 3263 RA Oud-Beijerland)
SUMMARY:Online workshop voor ouders lln H5 (door HRO)
URL:https://dewillem.nl/actueel/agenda/evenement/737-online-workshop-voor-o
 uders-lln-h5-door-hro
END:VEVENT
END:VCALENDAR
