BEGIN:VCALENDAR
VERSION:2.0
PRODID:-//https://dewillem.nl///NONSGML kigkonsult.se iCalcreator 2.10.15//
METHOD:PUBLISH
BEGIN:VEVENT
UID:20260419T154557UTC-93502StFc0@https://dewillem.nl/
DTSTAMP:20260419T154557Z
DESCRIPTION: https://dewillem.nl/actueel/agenda/evenement/736-leerlingen-ro
 ostervrij
DTSTART;VALUE=DATE:20201111
LOCATION:Beide  (Randweg 2)
SUMMARY:Leerlingen roostervrij
URL:https://dewillem.nl/actueel/agenda/evenement/736-leerlingen-roostervrij
END:VEVENT
END:VCALENDAR
