BEGIN:VCALENDAR
VERSION:2.0
PRODID:-//https://dewillem.nl///NONSGML kigkonsult.se iCalcreator 2.10.15//
METHOD:PUBLISH
BEGIN:VEVENT
UID:20260419T143151UTC-6294khjO6v@https://dewillem.nl/
DTSTAMP:20260419T143151Z
DESCRIPTION: https://dewillem.nl/actueel/agenda/evenement/735-bike-trail-cl
 inic-lln-sportklas-1-zw
DTSTART;VALUE=DATE:20201116
LOCATION:Locatie Zoomwijck (Randweg 2\, 3263 RA Oud-Beijerland)
SUMMARY:Bike trail clinic lln sportklas 1 ZW
URL:https://dewillem.nl/actueel/agenda/evenement/735-bike-trail-clinic-lln-
 sportklas-1-zw
END:VEVENT
END:VCALENDAR
