BEGIN:VCALENDAR
VERSION:2.0
PRODID:-//https://dewillem.nl///NONSGML kigkonsult.se iCalcreator 2.10.15//
METHOD:PUBLISH
BEGIN:VEVENT
UID:20260419T144024UTC-5721PuUAlK@https://dewillem.nl/
DTSTAMP:20260419T144024Z
DESCRIPTION: https://dewillem.nl/actueel/agenda/evenement/733-opening-muno-
 tto-h4-tto-v4-5-en-debatdagen-v4-5
DTSTART:20201117T130000Z
DTEND:20201117T144800Z
LOCATION:Locatie Zoomwijck (Randweg 2\, 3263 RA Oud-Beijerland)
SUMMARY:Opening MUNO tto-H4\, tto-V4/5 en debatdagen V4/5
URL:https://dewillem.nl/actueel/agenda/evenement/733-opening-muno-tto-h4-tt
 o-v4-5-en-debatdagen-v4-5
END:VEVENT
BEGIN:VEVENT
UID:20260419T144024UTC-5722Jd43gu@https://dewillem.nl/
DTSTAMP:20260419T144024Z
DESCRIPTION: https://dewillem.nl/actueel/agenda/evenement/734-aanvragen-her
 kansing-se-periode-1-uiterlijk-om-13-00-uur
DTSTART:20201117T120000Z
DTEND:20201117T134700Z
LOCATION:Beide  (Randweg 2)
SUMMARY:Aanvragen herkansing SE periode 1\, uiterlijk om 13:00 uur
URL:https://dewillem.nl/actueel/agenda/evenement/734-aanvragen-herkansing-s
 e-periode-1-uiterlijk-om-13-00-uur
END:VEVENT
END:VCALENDAR
