BEGIN:VCALENDAR
VERSION:2.0
PRODID:-//https://dewillem.nl///NONSGML kigkonsult.se iCalcreator 2.10.15//
METHOD:PUBLISH
BEGIN:VEVENT
UID:20260419T143256UTC-184837uG2o@https://dewillem.nl/
DTSTAMP:20260419T143256Z
DESCRIPTION: https://dewillem.nl/actueel/agenda/evenement/730-muno-tto-h4-t
 to-v4-5-en-debatdagen-v4-5
DTSTART:20201118T121500Z
DTEND:20201119T141500Z
LOCATION:Locatie Zoomwijck (Randweg 2\, 3263 RA Oud-Beijerland)
SUMMARY:MUNO tto-H4\, tto-V4/5 en debatdagen V4/5
URL:https://dewillem.nl/actueel/agenda/evenement/730-muno-tto-h4-tto-v4-5-e
 n-debatdagen-v4-5
END:VEVENT
END:VCALENDAR
