BEGIN:VCALENDAR
VERSION:2.0
PRODID:-//https://dewillem.nl///NONSGML kigkonsult.se iCalcreator 2.10.15//
METHOD:PUBLISH
BEGIN:VEVENT
UID:20260419T143944UTC-7583cltMLO@https://dewillem.nl/
DTSTAMP:20260419T143944Z
DESCRIPTION: https://dewillem.nl/actueel/agenda/evenement/727-tour-de-wille
 m-locatie-zoomwijck-lessen-zw-eindigen-na-5e-uur
DTSTART:20201120T140000Z
DTEND:20201120T190000Z
LOCATION:Locatie Zoomwijck (Randweg 2\, 3263 RA Oud-Beijerland)
SUMMARY:Tour de Willem locatie Zoomwijck\, lessen ZW eindigen na 5e uur
URL:https://dewillem.nl/actueel/agenda/evenement/727-tour-de-willem-locatie
 -zoomwijck-lessen-zw-eindigen-na-5e-uur
END:VEVENT
END:VCALENDAR
