BEGIN:VCALENDAR
VERSION:2.0
PRODID:-//https://dewillem.nl///NONSGML kigkonsult.se iCalcreator 2.10.15//
METHOD:PUBLISH
BEGIN:VEVENT
UID:20260419T143150UTC-1487UGp17F@https://dewillem.nl/
DTSTAMP:20260419T143150Z
DESCRIPTION: https://dewillem.nl/actueel/agenda/evenement/726-bike-trail-cl
 inic-lln-sportklas-1-pw
DTSTART;VALUE=DATE:20201123
LOCATION:Locatie Poortwijk (Polderlaan 2\, 3261 ZA Oud-Beijerland)
SUMMARY:Bike trail clinic lln sportklas 1 PW
URL:https://dewillem.nl/actueel/agenda/evenement/726-bike-trail-clinic-lln-
 sportklas-1-pw
END:VEVENT
END:VCALENDAR
