BEGIN:VCALENDAR
VERSION:2.0
PRODID:-//https://dewillem.nl///NONSGML kigkonsult.se iCalcreator 2.10.15//
METHOD:PUBLISH
BEGIN:VEVENT
UID:20260419T143255UTC-2055lgKJtH@https://dewillem.nl/
DTSTAMP:20260419T143255Z
DESCRIPTION: https://dewillem.nl/actueel/agenda/evenement/725-herkansing-se
 -periode-1-m-h-v
DTSTART:20201124T133000Z
DTEND:20201124T142500Z
LOCATION:Beide  (Randweg 2)
SUMMARY:Herkansing SE periode 1 M/H/V
URL:https://dewillem.nl/actueel/agenda/evenement/725-herkansing-se-periode-
 1-m-h-v
END:VEVENT
END:VCALENDAR
