BEGIN:VCALENDAR
VERSION:2.0
PRODID:-//https://dewillem.nl///NONSGML kigkonsult.se iCalcreator 2.10.15//
METHOD:PUBLISH
BEGIN:VEVENT
UID:20260419T155735UTC-7413DXuahU@https://dewillem.nl/
DTSTAMP:20260419T155735Z
DESCRIPTION: https://dewillem.nl/actueel/agenda/evenement/724-open-podium-z
 oomwijck
DTSTART:20201126T183000Z
DTEND:20201126T192700Z
LOCATION:Locatie Zoomwijck (Randweg 2\, 3263 RA Oud-Beijerland)
SUMMARY:Open Podium (Zoomwijck)
URL:https://dewillem.nl/actueel/agenda/evenement/724-open-podium-zoomwijck
END:VEVENT
END:VCALENDAR
