BEGIN:VCALENDAR
VERSION:2.0
PRODID:-//https://dewillem.nl///NONSGML kigkonsult.se iCalcreator 2.10.15//
METHOD:PUBLISH
BEGIN:VEVENT
UID:20260419T130826UTC-3304eGtXF1@https://dewillem.nl/
DTSTAMP:20260419T130826Z
DESCRIPTION: https://dewillem.nl/actueel/agenda/evenement/721-lunchpauzecon
 cert-serre-1
DTSTART:20201201T113500Z
DTEND:20201201T115500Z
LOCATION:Locatie Zoomwijck (Randweg 2\, 3263 RA Oud-Beijerland)
SUMMARY:Lunchpauzeconcert (serre) (1)
URL:https://dewillem.nl/actueel/agenda/evenement/721-lunchpauzeconcert-serr
 e-1
END:VEVENT
BEGIN:VEVENT
UID:20260419T130826UTC-3305SsdWGw@https://dewillem.nl/
DTSTAMP:20260419T130826Z
DESCRIPTION: https://dewillem.nl/actueel/agenda/evenement/722-ouderavond
DTSTART;VALUE=DATE:20201201
LOCATION:Beide  (Randweg 2)
SUMMARY:Ouderavond
URL:https://dewillem.nl/actueel/agenda/evenement/722-ouderavond
END:VEVENT
END:VCALENDAR
