BEGIN:VCALENDAR
VERSION:2.0
PRODID:-//https://dewillem.nl///NONSGML kigkonsult.se iCalcreator 2.10.15//
METHOD:PUBLISH
BEGIN:VEVENT
UID:20260419T130954UTC-3071xNAN2N@https://dewillem.nl/
DTSTAMP:20260419T130954Z
DESCRIPTION: https://dewillem.nl/actueel/agenda/evenement/720-phileas-fogg-
 voor-tto-3-in-de-aula
DTSTART:20201204T073000Z
DTEND:20201204T113000Z
LOCATION:Locatie Zoomwijck (Randweg 2\, 3263 RA Oud-Beijerland)
SUMMARY:Phileas Fogg voor tto-3 in de aula
URL:https://dewillem.nl/actueel/agenda/evenement/720-phileas-fogg-voor-tto-
 3-in-de-aula
END:VEVENT
END:VCALENDAR
