BEGIN:VCALENDAR
VERSION:2.0
PRODID:-//https://dewillem.nl///NONSGML kigkonsult.se iCalcreator 2.10.15//
METHOD:PUBLISH
BEGIN:VEVENT
UID:20260419T130825UTC-66894hCZIA@https://dewillem.nl/
DTSTAMP:20260419T130825Z
DESCRIPTION: https://dewillem.nl/actueel/agenda/evenement/718-decaanavond-v
 3-over-2e-fase
DTSTART:20201207T183000Z
DTEND:20201207T193500Z
LOCATION:Locatie Zoomwijck (Randweg 2\, 3263 RA Oud-Beijerland)
SUMMARY:Decaanavond V3 over 2e fase 
URL:https://dewillem.nl/actueel/agenda/evenement/718-decaanavond-v3-over-2e
 -fase
END:VEVENT
BEGIN:VEVENT
UID:20260419T130825UTC-6691JnpsUz@https://dewillem.nl/
DTSTAMP:20260419T130825Z
DESCRIPTION: https://dewillem.nl/actueel/agenda/evenement/719-deze-week-vak
 voorlichting-door-docenten-i-v-m-profielkeuze
DTSTART;VALUE=DATE:20201207
LOCATION:Beide  (Randweg 2)
SUMMARY:Deze week: vakvoorlichting door docenten i.v.m profielkeuze
URL:https://dewillem.nl/actueel/agenda/evenement/719-deze-week-vakvoorlicht
 ing-door-docenten-i-v-m-profielkeuze
END:VEVENT
END:VCALENDAR
