BEGIN:VCALENDAR
VERSION:2.0
PRODID:-//https://dewillem.nl///NONSGML kigkonsult.se iCalcreator 2.10.15//
METHOD:PUBLISH
BEGIN:VEVENT
UID:20260419T130825UTC-050541W8pI@https://dewillem.nl/
DTSTAMP:20260419T130825Z
DESCRIPTION: https://dewillem.nl/actueel/agenda/evenement/715-decaanavond-h
 3-m4-over-2e-fase-op-zw
DTSTART:20201208T183000Z
DTEND:20201208T193900Z
LOCATION:Locatie Zoomwijck (Randweg 2\, 3263 RA Oud-Beijerland)
SUMMARY:Decaanavond H3/M4 over 2e fase op ZW
URL:https://dewillem.nl/actueel/agenda/evenement/715-decaanavond-h3-m4-over
 -2e-fase-op-zw
END:VEVENT
BEGIN:VEVENT
UID:20260419T130825UTC-0507Uwvwfu@https://dewillem.nl/
DTSTAMP:20260419T130825Z
DESCRIPTION: https://dewillem.nl/actueel/agenda/evenement/716-filmmiddag-fa
 -h5-2-2
DTSTART:20201208T133000Z
DTEND:20201208T143600Z
LOCATION:Locatie Zoomwijck (Randweg 2\, 3263 RA Oud-Beijerland)
SUMMARY:Filmmiddag Fa H5 (2/2)
URL:https://dewillem.nl/actueel/agenda/evenement/716-filmmiddag-fa-h5-2-2
END:VEVENT
BEGIN:VEVENT
UID:20260419T130825UTC-0507msu5KV@https://dewillem.nl/
DTSTAMP:20260419T130825Z
DESCRIPTION: https://dewillem.nl/actueel/agenda/evenement/717-filmmiddag-du
DTSTART:20201208T133000Z
DTEND:20201208T143800Z
LOCATION:Locatie Zoomwijck (Randweg 2\, 3263 RA Oud-Beijerland)
SUMMARY:Filmmiddag Du 
URL:https://dewillem.nl/actueel/agenda/evenement/717-filmmiddag-du
END:VEVENT
END:VCALENDAR
