BEGIN:VCALENDAR
VERSION:2.0
PRODID:-//https://dewillem.nl///NONSGML kigkonsult.se iCalcreator 2.10.15//
METHOD:PUBLISH
BEGIN:VEVENT
UID:20260419T130954UTC-5176MWcjtC@https://dewillem.nl/
DTSTAMP:20260419T130954Z
DESCRIPTION: https://dewillem.nl/actueel/agenda/evenement/713-masterclass-k
 unst-lab
DTSTART:20201214T133000Z
DTEND:20201214T150000Z
LOCATION:Locatie Zoomwijck (Randweg 2\, 3263 RA Oud-Beijerland)
SUMMARY:Masterclass Kunst Lab
URL:https://dewillem.nl/actueel/agenda/evenement/713-masterclass-kunst-lab
END:VEVENT
BEGIN:VEVENT
UID:20260419T130954UTC-5177KvNhaU@https://dewillem.nl/
DTSTAMP:20260419T130954Z
DESCRIPTION: https://dewillem.nl/actueel/agenda/evenement/714-deze-week-vak
 voorlichting-door-docenten-i-v-m-profielkeuze
DTSTART;VALUE=DATE:20201214
LOCATION:Beide  (Randweg 2)
SUMMARY:Deze week: vakvoorlichting door docenten i.v.m profielkeuze
URL:https://dewillem.nl/actueel/agenda/evenement/714-deze-week-vakvoorlicht
 ing-door-docenten-i-v-m-profielkeuze
END:VEVENT
END:VCALENDAR
